BEGIN:VCALENDAR
VERSION:2.0
PRODID:-//Wind River Country - ECPv5.16.4//NONSGML v1.0//EN
CALSCALE:GREGORIAN
METHOD:PUBLISH
X-WR-CALNAME:Wind River Country
X-ORIGINAL-URL:https://windriver.org
X-WR-CALDESC:Events for Wind River Country
BEGIN:VTIMEZONE
TZID:America/Denver
BEGIN:DAYLIGHT
TZOFFSETFROM:-0700
TZOFFSETTO:-0600
TZNAME:MDT
DTSTART:20230312T090000
END:DAYLIGHT
BEGIN:STANDARD
TZOFFSETFROM:-0600
TZOFFSETTO:-0700
TZNAME:MST
DTSTART:20231105T080000
END:STANDARD
END:VTIMEZONE
BEGIN:VEVENT
DTSTART;TZID=America/Denver:20230603T090000
DTEND;TZID=America/Denver:20230603T113000
DTSTAMP:20260422T042130
CREATED:20230428T152623Z
LAST-MODIFIED:20230912T133455Z
UID:31024-1685782800-1685791800@windriver.org
SUMMARY:Lander Valley Farmers Market
DESCRIPTION:The Lander Valley Farmers Market is a volunteer-run\, weekly farmers market that serves the Lander community from June to October. Featuring produce\, meat\, eggs\, dairy\, flowers\, baked goods\, cottage foods and crafts locally produced in Fremont County. Every Saturday morning 3rd Street in Downtown Lander. \nTo inquire about vendors or volunteering\, head to www.landervalleyfarmersmarket.com.
URL:https://windriver.org/event/lander-valley-farmers-market-3/2023-06-03/
LOCATION:WY\, United States
CATEGORIES:Community,Shopping
ATTACH;FMTTYPE=image/jpeg:https://windriver.org/wp-content/uploads/2022/05/berries.jpeg
GEO:43.0759678;-107.2902839
END:VEVENT
END:VCALENDAR