BEGIN:VCALENDAR
VERSION:2.0
PRODID:-//Wind River Country - ECPv5.16.4//NONSGML v1.0//EN
CALSCALE:GREGORIAN
METHOD:PUBLISH
X-WR-CALNAME:Wind River Country
X-ORIGINAL-URL:https://windriver.org
X-WR-CALDESC:Events for Wind River Country
BEGIN:VTIMEZONE
TZID:America/Denver
BEGIN:DAYLIGHT
TZOFFSETFROM:-0700
TZOFFSETTO:-0600
TZNAME:MDT
DTSTART:20230312T090000
END:DAYLIGHT
BEGIN:STANDARD
TZOFFSETFROM:-0600
TZOFFSETTO:-0700
TZNAME:MST
DTSTART:20231105T080000
END:STANDARD
END:VTIMEZONE
BEGIN:VEVENT
DTSTART;TZID=America/Denver:20230707T170000
DTEND;TZID=America/Denver:20230707T190000
DTSTAMP:20260422T193502
CREATED:20230706T225109Z
LAST-MODIFIED:20230706T225109Z
UID:31747-1688749200-1688756400@windriver.org
SUMMARY:Shoshoni Farmers Market
DESCRIPTION:Every Friday at Shoshoni Community Plaza Park. 5 to 7 p.m. E. 2nd St. and Main St.
URL:https://windriver.org/event/shoshoni-farmers-market/2023-07-07/
LOCATION:WY\, United States
CATEGORIES:Community,Shopping
ATTACH;FMTTYPE=image/jpeg:https://windriver.org/wp-content/uploads/2020/09/Dubois-Farmers-Market.jpg
GEO:43.0759678;-107.2902839
END:VEVENT
END:VCALENDAR