BEGIN:VCALENDAR
VERSION:2.0
PRODID:-//Wind River Country - ECPv5.16.4//NONSGML v1.0//EN
CALSCALE:GREGORIAN
METHOD:PUBLISH
X-WR-CALNAME:Wind River Country
X-ORIGINAL-URL:https://windriver.org
X-WR-CALDESC:Events for Wind River Country
BEGIN:VTIMEZONE
TZID:America/Denver
BEGIN:DAYLIGHT
TZOFFSETFROM:-0700
TZOFFSETTO:-0600
TZNAME:MDT
DTSTART:20230312T090000
END:DAYLIGHT
BEGIN:STANDARD
TZOFFSETFROM:-0600
TZOFFSETTO:-0700
TZNAME:MST
DTSTART:20231105T080000
END:STANDARD
END:VTIMEZONE
BEGIN:VEVENT
DTSTART;TZID=America/Denver:20230717T190000
DTEND;TZID=America/Denver:20230717T190000
DTSTAMP:20260423T132829
CREATED:20230707T151210Z
LAST-MODIFIED:20230707T151210Z
UID:31766-1689620400-1689620400@windriver.org
SUMMARY:Hot Notes Cool Nites in the Park: Lander
DESCRIPTION:Outdoor\, family entertainment and performance opportunities for young and old musicians and local bands.  \nJoey Leone Band on July 17 and Lights Along the Shore on July 31. \nCall (307) 855-2214 for more information.
URL:https://windriver.org/event/hot-notes-cool-nites-in-the-park-lander/2023-07-17/
LOCATION:Lander City Park\, 405 Fremont St.\, Lander\, WY\, 82520\, United States
CATEGORIES:Community,Music & Arts
ATTACH;FMTTYPE=image/jpeg:https://windriver.org/wp-content/uploads/2023/07/HNCN-Poster-2023-1-scaled.jpg
GEO:42.8223347;-108.7371125
X-APPLE-STRUCTURED-LOCATION;VALUE=URI;X-ADDRESS=Lander City Park 405 Fremont St. Lander WY 82520 United States;X-APPLE-RADIUS=500;X-TITLE=405 Fremont St.:geo:-108.7371125,42.8223347
END:VEVENT
END:VCALENDAR