BEGIN:VCALENDAR
VERSION:2.0
PRODID:-//Wind River Country - ECPv5.16.4//NONSGML v1.0//EN
CALSCALE:GREGORIAN
METHOD:PUBLISH
X-WR-CALNAME:Wind River Country
X-ORIGINAL-URL:https://windriver.org
X-WR-CALDESC:Events for Wind River Country
BEGIN:VTIMEZONE
TZID:America/Denver
BEGIN:DAYLIGHT
TZOFFSETFROM:-0700
TZOFFSETTO:-0600
TZNAME:MDT
DTSTART:20240310T090000
END:DAYLIGHT
BEGIN:STANDARD
TZOFFSETFROM:-0600
TZOFFSETTO:-0700
TZNAME:MST
DTSTART:20241103T080000
END:STANDARD
END:VTIMEZONE
BEGIN:VEVENT
DTSTART;TZID=America/Denver:20240619T190000
DTEND;TZID=America/Denver:20240619T190000
DTSTAMP:20260423T174957
CREATED:20240531T141858Z
LAST-MODIFIED:20240821T192350Z
UID:35666-1718823600-1718823600@windriver.org
SUMMARY:Eagle Spirit Dancers and Singers
DESCRIPTION:Watch skilled dancers in colorful regalia at this outside venue against the backdrop of the Wind River Mountains every Wednesday night through August 28. Bring a lawn chair\, blanket\, or sit on the benches. Free to the public. \n  \nFor more information about Native American dancing and powwows\, go to https://windriver.org/experience/native-american-powwows.
URL:https://windriver.org/event/eagle-spirit-dancers/2024-06-19/
LOCATION:WY\, United States
CATEGORIES:Native American Dancing & Powwows
END:VEVENT
END:VCALENDAR