BEGIN:VCALENDAR
VERSION:2.0
PRODID:-//Wind River Country - ECPv5.16.4//NONSGML v1.0//EN
CALSCALE:GREGORIAN
METHOD:PUBLISH
X-WR-CALNAME:Wind River Country
X-ORIGINAL-URL:https://windriver.org
X-WR-CALDESC:Events for Wind River Country
BEGIN:VTIMEZONE
TZID:America/Denver
BEGIN:DAYLIGHT
TZOFFSETFROM:-0700
TZOFFSETTO:-0600
TZNAME:MDT
DTSTART:20240310T090000
END:DAYLIGHT
BEGIN:STANDARD
TZOFFSETFROM:-0600
TZOFFSETTO:-0700
TZNAME:MST
DTSTART:20241103T080000
END:STANDARD
END:VTIMEZONE
BEGIN:VEVENT
DTSTART;TZID=America/Denver:20240620T200000
DTEND;TZID=America/Denver:20240620T230000
DTSTAMP:20260423T175012
CREATED:20240617T211000Z
LAST-MODIFIED:20240617T211908Z
UID:36179-1718913600-1718924400@windriver.org
SUMMARY:Coalter Block Summer Music
DESCRIPTION:Join the Lander Bar and Gannett Grill for live music on the patio and in the Coalter Loft throughout the summer. Set times are 8 to 11 p.m. \n  \nJune 20 Tim Knecht \nJune 20 DJ Quinn (11 p.m. to 2 a.m.) \nJune 21 Olivia Harms & The Roadrunners \nJuly 4 & 5 Lost Springs Band \nJuly 6 Jalan Crossland \nJuly 11 Sammy Toyon \nJuly 12 David Henry \nJuly 13 Red Dangit \nJuly 20 Lauren Podjun \nJul 26 Bryan Bielanski (3 to 6 p.m.) \nJuly 26 Aaron Ball Band (7 to 11 p.m.) \nAugust 3 Patti Fiasco \nAugust 9 & 10 Poudre Valley Playboys \nAugust 16 Quinlan Valdez \nAugust 24 Lost Springs Band \n 
URL:https://windriver.org/event/coalter-block-summer-music/2024-06-20/
LOCATION:Lander Bar\, 126 Main St.\, Lander\, WY\, 82520\, United States
CATEGORIES:Music & Arts
GEO:42.8325942;-108.72759
X-APPLE-STRUCTURED-LOCATION;VALUE=URI;X-ADDRESS=Lander Bar 126 Main St. Lander WY 82520 United States;X-APPLE-RADIUS=500;X-TITLE=126 Main St.:geo:-108.72759,42.8325942
END:VEVENT
END:VCALENDAR