BEGIN:VCALENDAR
VERSION:2.0
PRODID:-//Wind River Country - ECPv5.16.4//NONSGML v1.0//EN
CALSCALE:GREGORIAN
METHOD:PUBLISH
X-WR-CALNAME:Wind River Country
X-ORIGINAL-URL:https://windriver.org
X-WR-CALDESC:Events for Wind River Country
BEGIN:VTIMEZONE
TZID:America/Denver
BEGIN:DAYLIGHT
TZOFFSETFROM:-0700
TZOFFSETTO:-0600
TZNAME:MDT
DTSTART:20240310T090000
END:DAYLIGHT
BEGIN:STANDARD
TZOFFSETFROM:-0600
TZOFFSETTO:-0700
TZNAME:MST
DTSTART:20241103T080000
END:STANDARD
END:VTIMEZONE
BEGIN:VEVENT
DTSTART;TZID=America/Denver:20241025T170000
DTEND;TZID=America/Denver:20241025T210000
DTSTAMP:20260422T103506
CREATED:20241015T205605Z
LAST-MODIFIED:20241015T205605Z
UID:37801-1729875600-1729890000@windriver.org
SUMMARY:Haunted House
DESCRIPTION:Halloween Haunted House at Pinnacle Day Center. Entry is $5.
URL:https://windriver.org/event/haunted-house/2024-10-25/
LOCATION:Pinnacle Day Center\, 610 E. Monroe Ave.\, Riverton\, WY\, 82501\, United States
CATEGORIES:Community,Kids Fun
ATTACH;FMTTYPE=image/jpeg:https://windriver.org/wp-content/uploads/2024/10/Halloween-haunted-house-1-scaled.jpg
END:VEVENT
BEGIN:VEVENT
DTSTART;TZID=America/Denver:20241025T180000
DTEND;TZID=America/Denver:20241025T210000
DTSTAMP:20260422T103506
CREATED:20241007T212905Z
LAST-MODIFIED:20241007T212905Z
UID:37782-1729879200-1729890000@windriver.org
SUMMARY:Shoshoni Recreation District #24 Haunted House
DESCRIPTION:Every year\, the Shoshoni Recreation District hosts an annual haunted house in the basement of the Senior Center.  \nChildren under the age of 12 must be accompanied by an adult.  \n$5 per person\, or $3 with a canned food donation.
URL:https://windriver.org/event/shoshoni-recreation-district-24-haunted-house-3/2024-10-25/
LOCATION:Shoshoni Senior Center\, 214 E. 2nd St.\, Shoshoni\, WY\, 82649\, United States
CATEGORIES:Community,Kids Fun
ATTACH;FMTTYPE=image/jpeg:https://windriver.org/wp-content/uploads/2024/10/Haunted-House-flyer-2024.jpg
GEO:43.2359671;-108.1081724
X-APPLE-STRUCTURED-LOCATION;VALUE=URI;X-ADDRESS=Shoshoni Senior Center 214 E. 2nd St. Shoshoni WY 82649 United States;X-APPLE-RADIUS=500;X-TITLE=214 E. 2nd St.:geo:-108.1081724,43.2359671
END:VEVENT
END:VCALENDAR