BEGIN:VCALENDAR
VERSION:2.0
PRODID:-//Wind River Country - ECPv5.16.4//NONSGML v1.0//EN
CALSCALE:GREGORIAN
METHOD:PUBLISH
X-WR-CALNAME:Wind River Country
X-ORIGINAL-URL:https://windriver.org
X-WR-CALDESC:Events for Wind River Country
BEGIN:VTIMEZONE
TZID:America/Denver
BEGIN:DAYLIGHT
TZOFFSETFROM:-0700
TZOFFSETTO:-0600
TZNAME:MDT
DTSTART:20240310T090000
END:DAYLIGHT
BEGIN:STANDARD
TZOFFSETFROM:-0600
TZOFFSETTO:-0700
TZNAME:MST
DTSTART:20241103T080000
END:STANDARD
END:VTIMEZONE
BEGIN:VEVENT
DTSTART;VALUE=DATE:20241206
DTEND;VALUE=DATE:20241207
DTSTAMP:20260420T012905
CREATED:20241129T194818Z
LAST-MODIFIED:20241129T194818Z
UID:38274-1733443200-1733529599@windriver.org
SUMMARY:Wyoming Wild Sheep Foundation Annual Winter Meeting
DESCRIPTION:A fun and educational weekend focusing on Wyoming’s Wild Sheep. Food\, fun\, games\, raffles\, silent auction\, field trip\, partner recognition and a chance to watch the new Ewe Hunt Video at the Shoshone Rose Casino & Hotel. 
URL:https://windriver.org/event/wyoming-wild-sheep-foundation-annual-winter-meeting/2024-12-06/
LOCATION:Shoshone Rose Casino & Hotel\, 5690 Hwy. 287\, Lander\, WY\, 82520\, United States
CATEGORIES:Community
ATTACH;FMTTYPE=image/jpeg:https://windriver.org/wp-content/uploads/2024/11/unnamed-2.jpg
GEO:42.890874;-108.793229
X-APPLE-STRUCTURED-LOCATION;VALUE=URI;X-ADDRESS=Shoshone Rose Casino & Hotel 5690 Hwy. 287 Lander WY 82520 United States;X-APPLE-RADIUS=500;X-TITLE=5690 Hwy. 287:geo:-108.793229,42.890874
END:VEVENT
END:VCALENDAR