BEGIN:VCALENDAR
VERSION:2.0
PRODID:-//Wind River Country - ECPv5.16.4//NONSGML v1.0//EN
CALSCALE:GREGORIAN
METHOD:PUBLISH
X-WR-CALNAME:Wind River Country
X-ORIGINAL-URL:https://windriver.org
X-WR-CALDESC:Events for Wind River Country
BEGIN:VTIMEZONE
TZID:America/Denver
BEGIN:DAYLIGHT
TZOFFSETFROM:-0700
TZOFFSETTO:-0600
TZNAME:MDT
DTSTART:20250309T090000
END:DAYLIGHT
BEGIN:STANDARD
TZOFFSETFROM:-0600
TZOFFSETTO:-0700
TZNAME:MST
DTSTART:20251102T080000
END:STANDARD
END:VTIMEZONE
BEGIN:VEVENT
DTSTART;TZID=America/Denver:20250115T160000
DTEND;TZID=America/Denver:20250115T173000
DTSTAMP:20260419T141931
CREATED:20250106T201740Z
LAST-MODIFIED:20250106T201740Z
UID:38666-1736956800-1736962200@windriver.org
SUMMARY:Youth Cooking Workshop: Pancakes & Pasta
DESCRIPTION:Kids will build confidence in the kitchen to cook at home on their own. Cost is $25 per student and includes both classes\, an apron and recipe cards to take home. Third through sixth grade. Limit eight students. Located at the Headwaters Art and Conference Center Kitchen. 
URL:https://windriver.org/event/youth-cooking-workshop-pancakes-pasta/2025-01-15/
LOCATION:Headwaters Arts & Conference Center\, 20 Stalnaker St.\, Dubois\, WY\, 82513\, United States
CATEGORIES:Community
GEO:43.5361575;-109.6470576
X-APPLE-STRUCTURED-LOCATION;VALUE=URI;X-ADDRESS=Headwaters Arts & Conference Center 20 Stalnaker St. Dubois WY 82513 United States;X-APPLE-RADIUS=500;X-TITLE=20 Stalnaker St.:geo:-109.6470576,43.5361575
END:VEVENT
END:VCALENDAR