BEGIN:VCALENDAR
VERSION:2.0
PRODID:-//Wind River Country - ECPv5.16.4//NONSGML v1.0//EN
CALSCALE:GREGORIAN
METHOD:PUBLISH
X-WR-CALNAME:Wind River Country
X-ORIGINAL-URL:https://windriver.org
X-WR-CALDESC:Events for Wind River Country
BEGIN:VTIMEZONE
TZID:America/Denver
BEGIN:DAYLIGHT
TZOFFSETFROM:-0700
TZOFFSETTO:-0600
TZNAME:MDT
DTSTART:20250309T090000
END:DAYLIGHT
BEGIN:STANDARD
TZOFFSETFROM:-0600
TZOFFSETTO:-0700
TZNAME:MST
DTSTART:20251102T080000
END:STANDARD
END:VTIMEZONE
BEGIN:VEVENT
DTSTART;VALUE=DATE:20250119
DTEND;VALUE=DATE:20250120
DTSTAMP:20260419T123735
CREATED:20250106T202703Z
LAST-MODIFIED:20250106T202703Z
UID:38683-1737244800-1737331199@windriver.org
SUMMARY:Fremont County Restaurant Week
DESCRIPTION:Fremont County Restaurant Week is January 19 to 25. \nBusinesses across Fremont County are offering special pricing for select items on their menu.  \nThe pricing at each location includes at least one of the following: $10.00 for County 10\, $18.84 for the year Fremont County was established\, and $52.25 for the average elevation of the towns in Fremont County.
URL:https://windriver.org/event/fremont-county-restaurant-week/2025-01-19/
LOCATION:WY\, United States
CATEGORIES:Community
ATTACH;FMTTYPE=image/png:https://windriver.org/wp-content/uploads/2025/01/471845414_997658319060622_7998049925382455265_n.png
GEO:43.0759678;-107.2902839
END:VEVENT
END:VCALENDAR