BEGIN:VCALENDAR
VERSION:2.0
PRODID:-//Wind River Country - ECPv5.16.4//NONSGML v1.0//EN
CALSCALE:GREGORIAN
METHOD:PUBLISH
X-WR-CALNAME:Wind River Country
X-ORIGINAL-URL:https://windriver.org
X-WR-CALDESC:Events for Wind River Country
BEGIN:VTIMEZONE
TZID:America/Denver
BEGIN:DAYLIGHT
TZOFFSETFROM:-0700
TZOFFSETTO:-0600
TZNAME:MDT
DTSTART:20250309T090000
END:DAYLIGHT
BEGIN:STANDARD
TZOFFSETFROM:-0600
TZOFFSETTO:-0700
TZNAME:MST
DTSTART:20251102T080000
END:STANDARD
END:VTIMEZONE
BEGIN:VEVENT
DTSTART;TZID=America/Denver:20250911T090000
DTEND;TZID=America/Denver:20250911T110000
DTSTAMP:20260421T184340
CREATED:20250828T174331Z
LAST-MODIFIED:20250828T174502Z
UID:42980-1757581200-1757588400@windriver.org
SUMMARY:Exploring Oil Painting
DESCRIPTION:Join Lander Burton as she guides participants through the basics of the medium\, color theory and art history. “Exploring Oil” is open to all skill levels. Every Thursday at the Lander Art Center until December 4. For ages 15 and up.
URL:https://windriver.org/event/exploring-oil-painting/2025-09-11/
LOCATION:Lander Art Center\, 258 E. Main St.\, Lander\, WY\, 82520\, United States
CATEGORIES:Community,Music & Arts
ATTACH;FMTTYPE=image/png:https://windriver.org/wp-content/uploads/2025/08/unnamed.png
GEO:42.8331404;-108.7295853
X-APPLE-STRUCTURED-LOCATION;VALUE=URI;X-ADDRESS=Lander Art Center 258 E. Main St. Lander WY 82520 United States;X-APPLE-RADIUS=500;X-TITLE=258 E. Main St.:geo:-108.7295853,42.8331404
END:VEVENT
END:VCALENDAR