BEGIN:VCALENDAR
VERSION:2.0
PRODID:-//Wind River Country - ECPv5.16.4//NONSGML v1.0//EN
CALSCALE:GREGORIAN
METHOD:PUBLISH
X-WR-CALNAME:Wind River Country
X-ORIGINAL-URL:https://windriver.org
X-WR-CALDESC:Events for Wind River Country
BEGIN:VTIMEZONE
TZID:America/Denver
BEGIN:DAYLIGHT
TZOFFSETFROM:-0700
TZOFFSETTO:-0600
TZNAME:MDT
DTSTART:20250309T090000
END:DAYLIGHT
BEGIN:STANDARD
TZOFFSETFROM:-0600
TZOFFSETTO:-0700
TZNAME:MST
DTSTART:20251102T080000
END:STANDARD
END:VTIMEZONE
BEGIN:VEVENT
DTSTART;TZID=America/Denver:20250926T140000
DTEND;TZID=America/Denver:20250926T190000
DTSTAMP:20260422T185827
CREATED:20250909T212051Z
LAST-MODIFIED:20250909T212346Z
UID:43506-1758895200-1758913200@windriver.org
SUMMARY:Lander Art Center Guns\, Boots & Brands Progressive Exhibition
DESCRIPTION:The Kiwanis Youth Fundraiser\, known throughout Lander as Guns\, Boots & Brands\, is about to fill the gallery with a progressive show running through September and October.  \nArtists from across the community will share their work\, leading up to a night of voting on October 17 at 6 p.m. and the full fundraising event on October 24.
URL:https://windriver.org/event/lander-art-center-guns-boots-brands-progressive-exhibition/2025-09-26/
LOCATION:Lander Art Center\, 258 E. Main St.\, Lander\, WY\, 82520\, United States
CATEGORIES:Community,Music & Arts
ATTACH;FMTTYPE=image/png:https://windriver.org/wp-content/uploads/2025/09/unnamed-1.png
GEO:42.8331404;-108.7295853
X-APPLE-STRUCTURED-LOCATION;VALUE=URI;X-ADDRESS=Lander Art Center 258 E. Main St. Lander WY 82520 United States;X-APPLE-RADIUS=500;X-TITLE=258 E. Main St.:geo:-108.7295853,42.8331404
END:VEVENT
END:VCALENDAR