BEGIN:VCALENDAR
VERSION:2.0
PRODID:-//Wind River Country - ECPv5.16.4//NONSGML v1.0//EN
CALSCALE:GREGORIAN
METHOD:PUBLISH
X-WR-CALNAME:Wind River Country
X-ORIGINAL-URL:https://windriver.org
X-WR-CALDESC:Events for Wind River Country
BEGIN:VTIMEZONE
TZID:America/Denver
BEGIN:DAYLIGHT
TZOFFSETFROM:-0700
TZOFFSETTO:-0600
TZNAME:MDT
DTSTART:20250309T090000
END:DAYLIGHT
BEGIN:STANDARD
TZOFFSETFROM:-0600
TZOFFSETTO:-0700
TZNAME:MST
DTSTART:20251102T080000
END:STANDARD
END:VTIMEZONE
BEGIN:VEVENT
DTSTART;VALUE=DATE:20250927
DTEND;VALUE=DATE:20250928
DTSTAMP:20260422T205152
CREATED:20250828T165656Z
LAST-MODIFIED:20250828T165656Z
UID:42564-1758931200-1759017599@windriver.org
SUMMARY:Run the Red Desert Trail Races
DESCRIPTION:Taking place on Wyoming Public Lands Day\, Run the Red embodies “the importance of public lands” in Wyoming. Starting at the Whitehorse Creek Overlook\, the race takes runners through the Northern Red Desert\, finishing at South Pass City. The 50K begins at 8 a.m.\, and the 30K begins at 10 a.m. Visit runthereddesert.com for more information.
URL:https://windriver.org/event/run-the-red-desert-trail-races/
LOCATION:South Pass City State Historic Site\, 125 Main St.\, South Pass\, WY\, 82520\, United States
CATEGORIES:Community,Music & Arts,Sports,Tours and Treks
GEO:42.468731;-108.799836
X-APPLE-STRUCTURED-LOCATION;VALUE=URI;X-ADDRESS=South Pass City State Historic Site 125 Main St. South Pass WY 82520 United States;X-APPLE-RADIUS=500;X-TITLE=125 Main St.:geo:-108.799836,42.468731
END:VEVENT
BEGIN:VEVENT
DTSTART;TZID=America/Denver:20250927T100000
DTEND;TZID=America/Denver:20250927T120000
DTSTAMP:20260422T205152
CREATED:20230404T204753Z
LAST-MODIFIED:20230404T204753Z
UID:32458-1758967200-1758974400@windriver.org
SUMMARY:Lander Art Center: Jam Time
DESCRIPTION:Every Saturday from 10 a.m. to 12 p.m at the Lander Art Center. All instruments\, ages and skill sets welcome!
URL:https://windriver.org/event/lander-art-center-jam-time/2025-09-27/
LOCATION:Lander Art Center\, 258 E. Main St.\, Lander\, WY\, 82520\, United States
CATEGORIES:Community,Music & Arts
ATTACH;FMTTYPE=image/jpeg:https://windriver.org/wp-content/uploads/2023/04/265202171_323881203070684_9050234177911611214_n.jpeg
GEO:42.8331404;-108.7295853
X-APPLE-STRUCTURED-LOCATION;VALUE=URI;X-ADDRESS=Lander Art Center 258 E. Main St. Lander WY 82520 United States;X-APPLE-RADIUS=500;X-TITLE=258 E. Main St.:geo:-108.7295853,42.8331404
END:VEVENT
BEGIN:VEVENT
DTSTART;TZID=America/Denver:20250927T100000
DTEND;TZID=America/Denver:20250927T160000
DTSTAMP:20260422T205152
CREATED:20250909T212051Z
LAST-MODIFIED:20250909T212347Z
UID:43507-1758967200-1758988800@windriver.org
SUMMARY:Lander Art Center Guns\, Boots & Brands Progressive Exhibition
DESCRIPTION:The Kiwanis Youth Fundraiser\, known throughout Lander as Guns\, Boots & Brands\, is about to fill the gallery with a progressive show running through September and October.  \nArtists from across the community will share their work\, leading up to a night of voting on October 17 at 6 p.m. and the full fundraising event on October 24.
URL:https://windriver.org/event/lander-art-center-guns-boots-brands-progressive-exhibition/2025-09-27/
LOCATION:Lander Art Center\, 258 E. Main St.\, Lander\, WY\, 82520\, United States
CATEGORIES:Community,Music & Arts
ATTACH;FMTTYPE=image/png:https://windriver.org/wp-content/uploads/2025/09/unnamed-1.png
GEO:42.8331404;-108.7295853
X-APPLE-STRUCTURED-LOCATION;VALUE=URI;X-ADDRESS=Lander Art Center 258 E. Main St. Lander WY 82520 United States;X-APPLE-RADIUS=500;X-TITLE=258 E. Main St.:geo:-108.7295853,42.8331404
END:VEVENT
END:VCALENDAR