BEGIN:VCALENDAR
VERSION:2.0
PRODID:-//Wind River Country - ECPv5.16.4//NONSGML v1.0//EN
CALSCALE:GREGORIAN
METHOD:PUBLISH
X-WR-CALNAME:Wind River Country
X-ORIGINAL-URL:https://windriver.org
X-WR-CALDESC:Events for Wind River Country
BEGIN:VTIMEZONE
TZID:America/Denver
BEGIN:DAYLIGHT
TZOFFSETFROM:-0700
TZOFFSETTO:-0600
TZNAME:MDT
DTSTART:20230312T090000
END:DAYLIGHT
BEGIN:STANDARD
TZOFFSETFROM:-0600
TZOFFSETTO:-0700
TZNAME:MST
DTSTART:20231105T080000
END:STANDARD
END:VTIMEZONE
BEGIN:VEVENT
DTSTART;TZID=America/Denver:20230703T180000
DTEND;TZID=America/Denver:20230703T180000
DTSTAMP:20260422T130910
CREATED:20230625T161359Z
LAST-MODIFIED:20230705T161446Z
UID:31630-1688407200-1688407200@windriver.org
SUMMARY:Fremont Area Road Tour Group Ride
DESCRIPTION:Join the weekly Fremont Area Road Tour Group Ride with local legend\, Chuck Schuster\, the first President of the Lander Cycling Club. He and his wife\, Karla Wagner will show you a great ride in Lander with the locals who know it best. \nMeet at Gannett Peak Sports (371 Main Street) at 5:45 p.m. Group cycling ride starts at 6 p.m.
URL:https://windriver.org/event/fremont-area-road-tour-group-ride/2023-07-03/
LOCATION:WY\, United States
CATEGORIES:Sports,Tours and Treks
ATTACH;FMTTYPE=image/jpeg:https://windriver.org/wp-content/uploads/2018/04/Road-biking-Jared-Steinman-1-scaled.jpg
GEO:43.0759678;-107.2902839
END:VEVENT
END:VCALENDAR