BEGIN:VCALENDAR
VERSION:2.0
PRODID:-//Wind River Country - ECPv5.16.4//NONSGML v1.0//EN
CALSCALE:GREGORIAN
METHOD:PUBLISH
X-WR-CALNAME:Wind River Country
X-ORIGINAL-URL:https://windriver.org
X-WR-CALDESC:Events for Wind River Country
BEGIN:VTIMEZONE
TZID:America/Denver
BEGIN:DAYLIGHT
TZOFFSETFROM:-0700
TZOFFSETTO:-0600
TZNAME:MDT
DTSTART:20230312T090000
END:DAYLIGHT
BEGIN:STANDARD
TZOFFSETFROM:-0600
TZOFFSETTO:-0700
TZNAME:MST
DTSTART:20231105T080000
END:STANDARD
END:VTIMEZONE
BEGIN:VEVENT
DTSTART;VALUE=DATE:20230817
DTEND;VALUE=DATE:20230818
DTSTAMP:20260422T030046
CREATED:20230419T155845Z
LAST-MODIFIED:20230419T155845Z
UID:30828-1692230400-1692316799@windriver.org
SUMMARY:Jurassic Classic Mountain Bike Festival
DESCRIPTION:Lander’s high desert and alpine trail systems are growing\, and the mountain bikers are here to party about it. \nThe Jurassic Classic Mountain Bike Festival is a weekend of riding trails\, enjoying live music\, bike films\, skills clinics\, trail building\, some ridiculous bike-related games and much more. You can view the 2023 Jurassic Classic Mountain Bike Festival schedule of events here. \nFree to the public: LanderPresents Live Music on Thursday for Packet Pick-Up\, Filmed by Bike Adventure Shorts Movie in the Park on Friday Night\, Live Music from Garrett LeBeau and the Austin Soul Review on Saturday Night! \nGo to www.jurassicclassicfest.com for more information.
URL:https://windriver.org/event/jurassic-classic-mountain-bike-festival-3/2023-08-17/
LOCATION:WY\, United States
CATEGORIES:Community,Festivals,Sports
ATTACH;FMTTYPE=image/jpeg:https://windriver.org/wp-content/uploads/2016/04/Jared-Steinman-mountain-biking-e1461621529143.jpg
GEO:43.0759678;-107.2902839
END:VEVENT
END:VCALENDAR